BEGIN:VCALENDAR
VERSION:2.0
PRODID:-//AudioTheme 2.3.2
BEGIN:VEVENT
UID:urn:uuid:f607dd7e-5e68-4b00-9de6-b24aafbbc315
URL:https://magicofsound.net/gigs/sound-ritual-concert/
DTSTART;TZID=GMT:20181209T190000
SUMMARY:Sound Ritual Concert
DESCRIPTION:Sounds from the realm of intuition and meditation with Saskia Baumgart\, Miroslav Grosser & Lilli Keller
LOCATION:Kapelle am Urban\, Kapelle am Urban\, Grimmstraße 10\, 10967 Berlin\, Berlin\, 
END:VEVENT
END:VCALENDAR
