BEGIN:VCALENDAR
VERSION:2.0
PRODID:-//AudioTheme 2.3.2
BEGIN:VEVENT
UID:urn:uuid:d8863e89-40a2-4508-b576-3cbc12e56f5c
URL:https://magicofsound.net/gigs/sound-healing-night-no-1/
DTSTART;TZID=GMT:20180615T190000
SUMMARY:Sound Healing night No.1
DESCRIPTION:Sound Healing night No.1
LOCATION:Kapelle am Urban\, Kapelle am Urban\, Grimmstraße 10\, 10967 Berlin\, Berlin\, 
END:VEVENT
END:VCALENDAR
