BEGIN:VCALENDAR
VERSION:2.0
PRODID:-//AudioTheme 2.3.2
BEGIN:VEVENT
UID:urn:uuid:c0e2ce7c-d73b-4906-be03-1ad05a162ae5
URL:https://magicofsound.net/gigs/sound-healing-night-2-3/
DTSTART;TZID=GMT:20190606T000000
SUMMARY:SOUND * HEALING * NIGHT*s NR 3
DESCRIPTION:Raum für heilsame Klang-Erfahrungen
LOCATION:PILATESLAB\, Choriner Straße 31\, 10435 Berlin\, Berlin\, \, 10435 Berlin-Mitte
END:VEVENT
END:VCALENDAR
