BEGIN:VCALENDAR
VERSION:2.0
PRODID:-//AudioTheme 2.3.2
BEGIN:VEVENT
UID:urn:uuid:d7f956ab-964a-42e9-b1ef-97064425567d
URL:https://magicofsound.net/gigs/sound-healing-night-2-2/
DTSTART;TZID=GMT:20190606T000000
SUMMARY:SOUND * HEALING * NIGHT* No.3
DESCRIPTION:A Live Experience with Sound & Healing  Space for healing sound experiences
LOCATION:PILATESLAB\, Choriner Straße 31\, 10435 Berlin\, Berlin\, \, 10435 Berlin-Mitte
END:VEVENT
END:VCALENDAR
