BEGIN:VCALENDAR
VERSION:2.0
PRODID:-//AudioTheme 2.3.2
BEGIN:VEVENT
UID:urn:uuid:8669d0d5-060c-4cc1-9985-b219d1a260ff
URL:https://magicofsound.net/gigs/pre-screening-the-twelve-concert-sasperella-3/
DTSTART;TZID=GMT:20191208T000000
SUMMARY:Pre Screening // The Twelve & Concert // Sasperella
DESCRIPTION:Invitation to an exclusive performance of the not yet released documentary "THE TWELVE"  & Concert by SASPERELLA aka Saskia Baumgart\, guest LILIA   & a final discussion with MARA DANIELA OVERBECK.  In support of the Le Ciel Foundation.  Su. 19:30 - 22:00 o'clock  Drink & Draw  Märkisches Ufer 1z\, 10179 Berlin  Ein Abend zur Botschaft 12 indigener spiritueller Ältester\, Vertreter aller Kontinente\, in dieser herausfordernden Zeit des Wandels    <iframe src="https://player.vimeo.com/video/317019799" width="640" height="360" frameborder="0" allow="autoplay\; fullscreen" allowfullscreen></iframe>  <p><a href="https://vimeo.com/317019799">TRAILER_THE_TWELVE</a> from <a href="https://vimeo.com/user12975590">lucy martens</a> on <a href="https://vimeo.com">Vimeo</a>.</p>
LOCATION:Drink  Draw Berlin - Künstlerkahn Helene\, Drink & Draw Berlin - Künstlerkahn Helene\, Märkisches Ufer 1z\, 10179 Berlin\, Berlin\, \, Deutschland\, 10179
END:VEVENT
END:VCALENDAR
