BEGIN:VCALENDAR
VERSION:2.0
PRODID:-//AudioTheme 2.3.2
BEGIN:VEVENT
UID:urn:uuid:6679c19d-a0c6-4c94-a238-448ca754d4d0
URL:https://magicofsound.net/gigs/klang-ritual-konzert/
DTSTART;TZID=GMT:20181209T190000
SUMMARY:Klang-Ritual-Konzert
DESCRIPTION:Klänge aus dem Reich von Intuition und Meditation mit Saskia Baumgart\, Miroslav Grosser & Lilli Keller
LOCATION:Kapelle am Urban\, Kapelle am Urban\, Grimmstraße 10\, 10967 Berlin\, Berlin\, 
END:VEVENT
END:VCALENDAR
