BEGIN:VCALENDAR
VERSION:2.0
PRODID:-//AudioTheme 2.3.2
BEGIN:VEVENT
UID:urn:uuid:d5a5f844-db8b-407a-917b-a01d9b9c1f69
URL:https://magicofsound.net/gigs/fete-de-la-musique/
DTSTART;TZID=GMT:20180621T180000
SUMMARY:Fete de la musique 2018
DESCRIPTION:Here is where we like to give you some first impressions of what you should expect from our gig at Fete de la musique 2018!
LOCATION:Kapelle am Urban\, Kapelle am Urban\, Grimmstraße 10\, 10967 Berlin\, Berlin\, 
END:VEVENT
END:VCALENDAR
