BEGIN:VCALENDAR
VERSION:2.0
PRODID:-//AudioTheme 2.3.2
BEGIN:VEVENT
UID:urn:uuid:6679c19d-a0c6-4c94-a238-448ca754d4d0
URL:https://magicofsound.net/gigs/east-west-healing-sounds-1/
DTSTART;TZID=GMT:20190929T000000
SUMMARY:East West Healing Sounds
DESCRIPTION:EAST WEST HEALING SOUNDS Nr. 1  Heilsame Konzerte mit MAGIC of SOUND   & Gäste aus Nah-& Fern-Ost  feat. SURANANDA Indien // Perkussion  & FAREED BARAKEH Syrien // Gitarre  
LOCATION:Drink  Draw Berlin - Künstlerkahn Helene\, Drink & Draw Berlin - Künstlerkahn Helene\, Märkisches Ufer 1z\, 10179 Berlin\, Berlin\, \, Deutschland\, 10179
END:VEVENT
END:VCALENDAR
